BEGIN:VCALENDAR
VERSION:2.0
PRODID:-//wp-events-plugin.com//7.2.3.1//EN
BEGIN:VEVENT
UID:12@cfsaa.org
DTSTART:20230521T000000Z
DTEND:20230524T000000Z
DTSTAMP:20221107T162728Z
URL:https://www.cfsaa.org/cfsa-events/missouri-funeral-directors-embalmers
 -association-mfdea-2023-annual-convention-trade-show/
SUMMARY:Missouri Funeral Directors & Embalmers Association (MFDEA) 2023 Ann
 ual Convention & Trade Show
DESCRIPTION:https://www.mofuneral.org/2009_Convention_-99518.html
LOCATION:St. Charles Convention Center\, 1 Convention Center Plz\, St. Char
 les\, Missouri  \, 63303\, United States
X-APPLE-STRUCTURED-LOCATION;VALUE=URI;X-ADDRESS=1 Convention Center Plz\, S
 t. Charles\, Missouri  \, 63303\, United States;X-APPLE-RADIUS=100;X-TITLE
 =St. Charles Convention Center:geo:0,0
END:VEVENT
END:VCALENDAR