BEGIN:VCALENDAR
VERSION:2.0
PRODID:-//wp-events-plugin.com//7.2.3.1//EN
BEGIN:VEVENT
UID:16@cfsaa.org
DTSTART;VALUE=DATE:20230607
DTEND;VALUE=DATE:20230610
DTSTAMP:20221107T163207Z
URL:https://www.cfsaa.org/cfsa-events/funeral-service-association-of-canad
 a-fsac-2023-annual-conference/
SUMMARY:Funeral Service Association of Canada (FSAC) 2023 Annual Conference
DESCRIPTION:https://www.fsac.ca/2023conference
LOCATION:Westin Harbor Castle Hotel & Conference Center\, 11 Bay St.\, Toro
 nto\, Canada\, M5J 1A6\, Canada
X-APPLE-STRUCTURED-LOCATION;VALUE=URI;X-ADDRESS=11 Bay St.\, Toronto\, Cana
 da\, M5J 1A6\, Canada;X-APPLE-RADIUS=100;X-TITLE=Westin Harbor Castle Hote
 l & Conference Center:geo:0,0
END:VEVENT
END:VCALENDAR